Package: FitHiC Version: 1.24.0 Command: rm -rf FitHiC.buildbin-libdir && mkdir FitHiC.buildbin-libdir && /Users/biocbuild/BBS/utils/build-universal.sh FitHiC_1.24.0.tar.gz /Library/Frameworks/R.framework/Resources/bin/R FitHiC.buildbin-libdir StartedAt: 2023-04-10 23:43:35 -0400 (Mon, 10 Apr 2023) EndedAt: 2023-04-10 23:43:55 -0400 (Mon, 10 Apr 2023) EllapsedTime: 19.5 seconds RetCode: 0 Status: OK PackageFile: FitHiC_1.24.0.tgz PackageFileSize: 27.61 MiB