Package: FELLA Version: 1.18.0 Command: chmod a+r FELLA -R && F:\biocbuild\bbs-3.16-bioc\R\bin\R.exe CMD build --keep-empty-dirs --no-resave-data FELLA StartedAt: 2023-04-10 18:41:05 -0400 (Mon, 10 Apr 2023) EndedAt: 2023-04-10 18:50:44 -0400 (Mon, 10 Apr 2023) EllapsedTime: 578.3 seconds RetCode: 0 Status: OK PackageFile: FELLA_1.18.0.tar.gz PackageFileSize: 3.431 MiB