Package: FEAST Version: 1.6.0 Command: rm -rf FEAST.buildbin-libdir && mkdir FEAST.buildbin-libdir && F:\biocbuild\bbs-3.16-bioc\R\bin\R.exe CMD INSTALL --build --library=FEAST.buildbin-libdir FEAST_1.6.0.tar.gz StartedAt: 2023-04-11 07:59:24 -0400 (Tue, 11 Apr 2023) EndedAt: 2023-04-11 07:59:59 -0400 (Tue, 11 Apr 2023) EllapsedTime: 35.2 seconds RetCode: 0 Status: OK PackageFile: FEAST_1.6.0.zip PackageFileSize: 4.472 MiB