Package: FEAST Version: 1.5.0 Command: /Library/Frameworks/R.framework/Resources/bin/R CMD INSTALL FEAST StartedAt: 2022-07-10 17:43:27 -0400 (Sun, 10 Jul 2022) EndedAt: 2022-07-10 17:44:25 -0400 (Sun, 10 Jul 2022) EllapsedTime: 57.8 seconds RetCode: 0 Status: OK