Package: ExCluster Version: 1.16.0 Command: /home/biocbuild/bbs-3.16-bioc/R/bin/R CMD INSTALL ExCluster StartedAt: 2023-04-10 15:44:11 -0400 (Mon, 10 Apr 2023) EndedAt: 2023-04-10 15:44:50 -0400 (Mon, 10 Apr 2023) EllapsedTime: 39.9 seconds RetCode: 0 Status: OK