Package: EnrichedHeatmap Version: 1.28.1 Command: /Library/Frameworks/R.framework/Resources/bin/R CMD build --keep-empty-dirs --no-resave-data EnrichedHeatmap StartedAt: 2023-04-10 16:27:54 -0400 (Mon, 10 Apr 2023) EndedAt: 2023-04-10 16:31:53 -0400 (Mon, 10 Apr 2023) EllapsedTime: 238.7 seconds RetCode: 0 Status: OK PackageFile: EnrichedHeatmap_1.28.1.tar.gz PackageFileSize: 11.25 MiB