Package: EBarrays Version: 2.62.0 Command: /Library/Frameworks/R.framework/Resources/bin/R CMD check --install=check:EBarrays.install-out.txt --library=/Library/Frameworks/R.framework/Resources/library --no-vignettes --timings EBarrays_2.62.0.tar.gz StartedAt: 2023-04-10 20:01:16 -0400 (Mon, 10 Apr 2023) EndedAt: 2023-04-10 20:02:06 -0400 (Mon, 10 Apr 2023) EllapsedTime: 50.1 seconds RetCode: 0 Status: OK CheckDir: EBarrays.Rcheck Warnings: 0