Package: DriverNet Version: 1.38.0 Command: /Library/Frameworks/R.framework/Resources/bin/R CMD build --keep-empty-dirs --no-resave-data DriverNet StartedAt: 2023-04-10 16:26:00 -0400 (Mon, 10 Apr 2023) EndedAt: 2023-04-10 16:26:35 -0400 (Mon, 10 Apr 2023) EllapsedTime: 35.1 seconds RetCode: 0 Status: OK PackageFile: DriverNet_1.38.0.tar.gz PackageFileSize: 1.117 MiB