Package: DominoEffect Version: 1.18.0 Command: rm -rf DominoEffect.buildbin-libdir && mkdir DominoEffect.buildbin-libdir && /Users/biocbuild/BBS/utils/build-universal.sh DominoEffect_1.18.0.tar.gz /Library/Frameworks/R.framework/Resources/bin/R DominoEffect.buildbin-libdir StartedAt: 2023-04-10 23:41:25 -0400 (Mon, 10 Apr 2023) EndedAt: 2023-04-10 23:42:13 -0400 (Mon, 10 Apr 2023) EllapsedTime: 47.8 seconds RetCode: 0 Status: OK PackageFile: DominoEffect_1.18.0.tgz PackageFileSize: 581.4 KiB