Package: DepInfeR Version: 1.2.0 Command: F:\biocbuild\bbs-3.16-bioc\R\bin\R.exe CMD check --no-multiarch --install=check:DepInfeR.install-out.txt --library=F:\biocbuild\bbs-3.16-bioc\R\library --no-vignettes --timings DepInfeR_1.2.0.tar.gz StartedAt: 2023-04-11 00:46:08 -0400 (Tue, 11 Apr 2023) EndedAt: 2023-04-11 00:48:01 -0400 (Tue, 11 Apr 2023) EllapsedTime: 113.2 seconds RetCode: 0 Status: OK CheckDir: DepInfeR.Rcheck Warnings: 0