Package: DepInfeR Version: 1.2.0 Command: /home/biocbuild/bbs-3.16-bioc/R/bin/R CMD check --install=check:DepInfeR.install-out.txt --library=/home/biocbuild/bbs-3.16-bioc/R/site-library --timings DepInfeR_1.2.0.tar.gz StartedAt: 2023-04-10 20:14:28 -0400 (Mon, 10 Apr 2023) EndedAt: 2023-04-10 20:16:53 -0400 (Mon, 10 Apr 2023) EllapsedTime: 144.8 seconds RetCode: 0 Status: OK CheckDir: DepInfeR.Rcheck Warnings: 0