Package: DepInfeR Version: 1.2.0 Command: /Library/Frameworks/R.framework/Resources/bin/R CMD INSTALL DepInfeR StartedAt: 2023-04-10 15:13:58 -0400 (Mon, 10 Apr 2023) EndedAt: 2023-04-10 15:14:06 -0400 (Mon, 10 Apr 2023) EllapsedTime: 7.8 seconds RetCode: 0 Status: OK