Package: DelayedTensor Version: 1.3.0 Command: /Library/Frameworks/R.framework/Resources/bin/R CMD INSTALL DelayedTensor StartedAt: 2022-07-10 16:51:54 -0400 (Sun, 10 Jul 2022) EndedAt: 2022-07-10 16:52:49 -0400 (Sun, 10 Jul 2022) EllapsedTime: 55.5 seconds RetCode: 0 Status: OK