Package: DeconRNASeq Version: 1.40.0 Command: F:\biocbuild\bbs-3.16-bioc\R\bin\R.exe CMD check --no-multiarch --install=check:DeconRNASeq.install-out.txt --library=F:\biocbuild\bbs-3.16-bioc\R\library --no-vignettes --timings DeconRNASeq_1.40.0.tar.gz StartedAt: 2023-04-11 00:40:25 -0400 (Tue, 11 Apr 2023) EndedAt: 2023-04-11 00:41:19 -0400 (Tue, 11 Apr 2023) EllapsedTime: 53.7 seconds RetCode: 0 Status: OK CheckDir: DeconRNASeq.Rcheck Warnings: 0