Package: DTA Version: 2.44.0 Command: F:\biocbuild\bbs-3.16-bioc\R\bin\R.exe CMD check --no-multiarch --install=check:DTA.install-out.txt --library=F:\biocbuild\bbs-3.16-bioc\R\library --no-vignettes --timings DTA_2.44.0.tar.gz StartedAt: 2023-04-11 01:03:47 -0400 (Tue, 11 Apr 2023) EndedAt: 2023-04-11 01:07:29 -0400 (Tue, 11 Apr 2023) EllapsedTime: 222.5 seconds RetCode: 0 Status: OK CheckDir: DTA.Rcheck Warnings: 0