Package: DTA Version: 2.44.0 Command: chmod a+r DTA -R && F:\biocbuild\bbs-3.16-bioc\R\bin\R.exe CMD build --keep-empty-dirs --no-resave-data DTA StartedAt: 2023-04-10 18:20:24 -0400 (Mon, 10 Apr 2023) EndedAt: 2023-04-10 18:45:11 -0400 (Mon, 10 Apr 2023) EllapsedTime: 1487.2 seconds RetCode: 0 Status: OK PackageFile: DTA_2.44.0.tar.gz PackageFileSize: 11.27 MiB