Package: DTA Version: 2.44.0 Command: rm -rf DTA.buildbin-libdir && mkdir DTA.buildbin-libdir && F:\biocbuild\bbs-3.16-bioc\R\bin\R.exe CMD INSTALL --build --library=DTA.buildbin-libdir DTA_2.44.0.tar.gz StartedAt: 2023-04-11 07:55:36 -0400 (Tue, 11 Apr 2023) EndedAt: 2023-04-11 07:55:48 -0400 (Tue, 11 Apr 2023) EllapsedTime: 11.3 seconds RetCode: 0 Status: OK PackageFile: DTA_2.44.0.zip PackageFileSize: 11.53 MiB