Package: DTA Version: 2.44.0 Command: /home/biocbuild/bbs-3.16-bioc/R/bin/R CMD check --install=check:DTA.install-out.txt --library=/home/biocbuild/bbs-3.16-bioc/R/site-library --timings DTA_2.44.0.tar.gz StartedAt: 2023-04-10 20:26:57 -0400 (Mon, 10 Apr 2023) EndedAt: 2023-04-10 20:39:51 -0400 (Mon, 10 Apr 2023) EllapsedTime: 774.4 seconds RetCode: 0 Status: OK CheckDir: DTA.Rcheck Warnings: 0