Package: DTA Version: 2.44.0 Command: /home/biocbuild/bbs-3.16-bioc/R/bin/R CMD build --keep-empty-dirs --no-resave-data DTA StartedAt: 2023-04-10 16:38:55 -0400 (Mon, 10 Apr 2023) EndedAt: 2023-04-10 16:43:28 -0400 (Mon, 10 Apr 2023) EllapsedTime: 272.8 seconds RetCode: 0 Status: OK PackageFile: DTA_2.44.0.tar.gz PackageFileSize: 10.52 MiB