Package: DTA Version: 2.44.0 Command: rm -rf DTA.buildbin-libdir && mkdir DTA.buildbin-libdir && /Users/biocbuild/BBS/utils/build-universal.sh DTA_2.44.0.tar.gz /Library/Frameworks/R.framework/Resources/bin/R DTA.buildbin-libdir StartedAt: 2023-04-10 23:41:40 -0400 (Mon, 10 Apr 2023) EndedAt: 2023-04-10 23:41:50 -0400 (Mon, 10 Apr 2023) EllapsedTime: 10.3 seconds RetCode: 0 Status: OK PackageFile: DTA_2.44.0.tgz PackageFileSize: 10.93 MiB