Package: DTA Version: 2.43.0 Command: rm -rf DTA.buildbin-libdir && mkdir DTA.buildbin-libdir && /Users/biocbuild/BBS/utils/build-universal.sh DTA_2.43.0.tar.gz /Library/Frameworks/R.framework/Resources/bin/R DTA.buildbin-libdir StartedAt: 2022-07-07 07:51:16 -0400 (Thu, 07 Jul 2022) EndedAt: 2022-07-07 07:51:34 -0400 (Thu, 07 Jul 2022) EllapsedTime: 18.1 seconds RetCode: 0 Status: OK PackageFile: DTA_2.43.0.tgz PackageFileSize: 10.92 MiB