Package: DNAfusion Version: 1.0.0 Command: chmod a+r DNAfusion -R && F:\biocbuild\bbs-3.16-bioc\R\bin\R.exe CMD build --keep-empty-dirs --no-resave-data DNAfusion StartedAt: 2023-04-10 18:18:34 -0400 (Mon, 10 Apr 2023) EndedAt: 2023-04-10 18:19:15 -0400 (Mon, 10 Apr 2023) EllapsedTime: 41.2 seconds RetCode: 0 Status: OK PackageFile: DNAfusion_1.0.0.tar.gz PackageFileSize: 335.7 KiB