Package: DNAfusion Version: 1.0.0 Command: rm -rf DNAfusion.buildbin-libdir && mkdir DNAfusion.buildbin-libdir && F:\biocbuild\bbs-3.16-bioc\R\bin\R.exe CMD INSTALL --build --library=DNAfusion.buildbin-libdir DNAfusion_1.0.0.tar.gz StartedAt: 2023-04-11 07:55:00 -0400 (Tue, 11 Apr 2023) EndedAt: 2023-04-11 07:55:31 -0400 (Tue, 11 Apr 2023) EllapsedTime: 30.6 seconds RetCode: 0 Status: OK PackageFile: DNAfusion_1.0.0.zip PackageFileSize: 342.7 KiB