Package: DNAfusion Version: 1.0.0 Command: /home/biocbuild/bbs-3.16-bioc/R/bin/R CMD check --install=check:DNAfusion.install-out.txt --library=/home/biocbuild/bbs-3.16-bioc/R/site-library --timings DNAfusion_1.0.0.tar.gz StartedAt: 2023-04-10 20:23:51 -0400 (Mon, 10 Apr 2023) EndedAt: 2023-04-10 20:27:18 -0400 (Mon, 10 Apr 2023) EllapsedTime: 206.4 seconds RetCode: 0 Status: OK CheckDir: DNAfusion.Rcheck Warnings: 0