Package: DNAfusion Version: 1.0.0 Command: /home/biocbuild/bbs-3.16-bioc/R/bin/R CMD build --keep-empty-dirs --no-resave-data DNAfusion StartedAt: 2023-04-10 16:37:41 -0400 (Mon, 10 Apr 2023) EndedAt: 2023-04-10 16:38:25 -0400 (Mon, 10 Apr 2023) EllapsedTime: 44.0 seconds RetCode: 0 Status: OK PackageFile: DNAfusion_1.0.0.tar.gz PackageFileSize: 335.6 KiB