Package: DNABarcodes Version: 1.28.0 Command: /home/biocbuild/bbs-3.16-bioc/R/bin/R CMD INSTALL DNABarcodes StartedAt: 2023-04-10 15:09:06 -0400 (Mon, 10 Apr 2023) EndedAt: 2023-04-10 15:10:30 -0400 (Mon, 10 Apr 2023) EllapsedTime: 83.9 seconds RetCode: 0 Status: OK