Package: DMRcate Version: 2.11.0 Command: /Library/Frameworks/R.framework/Resources/bin/R CMD INSTALL DMRcate StartedAt: 2022-07-10 19:01:38 -0400 (Sun, 10 Jul 2022) EndedAt: 2022-07-10 19:01:39 -0400 (Sun, 10 Jul 2022) EllapsedTime: 1.1 seconds RetCode: 1 Status: ERROR