Package: DMRcaller Version: 1.30.0 Command: F:\biocbuild\bbs-3.16-bioc\R\bin\R.exe CMD check --no-multiarch --install=check:DMRcaller.install-out.txt --library=F:\biocbuild\bbs-3.16-bioc\R\library --no-vignettes --timings DMRcaller_1.30.0.tar.gz StartedAt: 2023-04-11 00:56:27 -0400 (Tue, 11 Apr 2023) EndedAt: 2023-04-11 01:00:18 -0400 (Tue, 11 Apr 2023) EllapsedTime: 230.7 seconds RetCode: 0 Status: OK CheckDir: DMRcaller.Rcheck Warnings: 0