Package: DMRcaller Version: 1.30.0 Command: rm -rf DMRcaller.buildbin-libdir && mkdir DMRcaller.buildbin-libdir && F:\biocbuild\bbs-3.16-bioc\R\bin\R.exe CMD INSTALL --build --library=DMRcaller.buildbin-libdir DMRcaller_1.30.0.tar.gz StartedAt: 2023-04-11 07:54:40 -0400 (Tue, 11 Apr 2023) EndedAt: 2023-04-11 07:55:02 -0400 (Tue, 11 Apr 2023) EllapsedTime: 22.0 seconds RetCode: 0 Status: OK PackageFile: DMRcaller_1.30.0.zip PackageFileSize: 1.838 MiB