Package: DMRcaller Version: 1.30.0 Command: /home/biocbuild/bbs-3.16-bioc/R/bin/R CMD build --keep-empty-dirs --no-resave-data DMRcaller StartedAt: 2023-04-10 16:37:03 -0400 (Mon, 10 Apr 2023) EndedAt: 2023-04-10 16:38:30 -0400 (Mon, 10 Apr 2023) EllapsedTime: 86.5 seconds RetCode: 0 Status: OK PackageFile: DMRcaller_1.30.0.tar.gz PackageFileSize: 1.614 MiB