Package: DMRcaller Version: 1.30.0 Command: /Library/Frameworks/R.framework/Resources/bin/R CMD check --install=check:DMRcaller.install-out.txt --library=/Library/Frameworks/R.framework/Resources/library --no-vignettes --timings DMRcaller_1.30.0.tar.gz StartedAt: 2023-04-10 19:56:10 -0400 (Mon, 10 Apr 2023) EndedAt: 2023-04-10 19:59:53 -0400 (Mon, 10 Apr 2023) EllapsedTime: 223.4 seconds RetCode: 0 Status: OK CheckDir: DMRcaller.Rcheck Warnings: 0