Package: DMRcaller Version: 1.29.0 Command: rm -rf DMRcaller.buildbin-libdir && mkdir DMRcaller.buildbin-libdir && /Users/biocbuild/BBS/utils/build-universal.sh DMRcaller_1.29.0.tar.gz /Library/Frameworks/R.framework/Resources/bin/R DMRcaller.buildbin-libdir StartedAt: 2022-07-07 07:50:29 -0400 (Thu, 07 Jul 2022) EndedAt: 2022-07-07 07:51:00 -0400 (Thu, 07 Jul 2022) EllapsedTime: 30.9 seconds RetCode: 0 Status: OK PackageFile: DMRcaller_1.29.0.tgz PackageFileSize: 1.841 MiB