Package: DIAlignR Version: 2.5.0 Command: /Library/Frameworks/R.framework/Resources/bin/R CMD INSTALL DIAlignR StartedAt: 2022-07-10 16:59:17 -0400 (Sun, 10 Jul 2022) EndedAt: 2022-07-10 17:01:59 -0400 (Sun, 10 Jul 2022) EllapsedTime: 162.1 seconds RetCode: 0 Status: OK