Package: DIAlignR Version: 2.5.0 Command: /Library/Frameworks/R.framework/Resources/bin/R CMD build --keep-empty-dirs --no-resave-data DIAlignR StartedAt: 2022-07-06 20:17:56 -0400 (Wed, 06 Jul 2022) EndedAt: 2022-07-06 20:19:43 -0400 (Wed, 06 Jul 2022) EllapsedTime: 106.7 seconds RetCode: 0 Status: OK PackageFile: DIAlignR_2.5.0.tar.gz PackageFileSize: 4.198 MiB