Package: DIAlignR Version: 2.5.0 Command: rm -rf DIAlignR.buildbin-libdir && mkdir DIAlignR.buildbin-libdir && /Users/biocbuild/BBS/utils/build-universal.sh DIAlignR_2.5.0.tar.gz /Library/Frameworks/R.framework/Resources/bin/R DIAlignR.buildbin-libdir StartedAt: 2022-07-07 07:49:23 -0400 (Thu, 07 Jul 2022) EndedAt: 2022-07-07 07:51:57 -0400 (Thu, 07 Jul 2022) EllapsedTime: 154.5 seconds RetCode: 1 Status: ERROR PackageFile: None PackageFileSize: NA