Package: DAPAR Version: 1.30.6 Command: /home/biocbuild/bbs-3.16-bioc/R/bin/R CMD check --install=check:DAPAR.install-out.txt --library=/home/biocbuild/bbs-3.16-bioc/R/site-library --timings DAPAR_1.30.6.tar.gz StartedAt: 2023-04-10 20:07:33 -0400 (Mon, 10 Apr 2023) EndedAt: 2023-04-10 20:13:08 -0400 (Mon, 10 Apr 2023) EllapsedTime: 335.1 seconds RetCode: 0 Status: OK CheckDir: DAPAR.Rcheck Warnings: 0