Package: DAPAR Version: 1.30.6 Command: /Library/Frameworks/R.framework/Resources/bin/R CMD check --install=check:DAPAR.install-out.txt --library=/Library/Frameworks/R.framework/Resources/library --no-vignettes --timings DAPAR_1.30.6.tar.gz StartedAt: 2023-04-10 19:44:31 -0400 (Mon, 10 Apr 2023) EndedAt: 2023-04-10 19:50:37 -0400 (Mon, 10 Apr 2023) EllapsedTime: 365.8 seconds RetCode: 0 Status: OK CheckDir: DAPAR.Rcheck Warnings: 0