Package: DAPAR Version: 1.30.6 Command: rm -rf DAPAR.buildbin-libdir && mkdir DAPAR.buildbin-libdir && /Users/biocbuild/BBS/utils/build-universal.sh DAPAR_1.30.6.tar.gz /Library/Frameworks/R.framework/Resources/bin/R DAPAR.buildbin-libdir StartedAt: 2023-04-10 23:39:37 -0400 (Mon, 10 Apr 2023) EndedAt: 2023-04-10 23:40:06 -0400 (Mon, 10 Apr 2023) EllapsedTime: 28.7 seconds RetCode: 0 Status: OK PackageFile: DAPAR_1.30.6.tgz PackageFileSize: 2.317 MiB