Package: DAMEfinder Version: 1.10.1 Command: rm -rf DAMEfinder.buildbin-libdir && mkdir DAMEfinder.buildbin-libdir && /Users/biocbuild/BBS/utils/build-universal.sh DAMEfinder_1.10.1.tar.gz /Library/Frameworks/R.framework/Resources/bin/R DAMEfinder.buildbin-libdir StartedAt: 2023-04-10 23:39:33 -0400 (Mon, 10 Apr 2023) EndedAt: 2023-04-10 23:40:07 -0400 (Mon, 10 Apr 2023) EllapsedTime: 34.3 seconds RetCode: 0 Status: OK PackageFile: DAMEfinder_1.10.1.tgz PackageFileSize: 4.689 MiB