Package: CrispRVariants Version: 1.26.0 Command: F:\biocbuild\bbs-3.16-bioc\R\bin\R.exe CMD check --no-multiarch --install=check:CrispRVariants.install-out.txt --library=F:\biocbuild\bbs-3.16-bioc\R\library --no-vignettes --timings CrispRVariants_1.26.0.tar.gz StartedAt: 2023-04-11 00:27:02 -0400 (Tue, 11 Apr 2023) EndedAt: 2023-04-11 00:31:31 -0400 (Tue, 11 Apr 2023) EllapsedTime: 268.5 seconds RetCode: 0 Status: WARNINGS CheckDir: CrispRVariants.Rcheck Warnings: 2