Package: CrispRVariants Version: 1.26.0 Command: rm -rf CrispRVariants.buildbin-libdir && mkdir CrispRVariants.buildbin-libdir && /Users/biocbuild/BBS/utils/build-universal.sh CrispRVariants_1.26.0.tar.gz /Library/Frameworks/R.framework/Resources/bin/R CrispRVariants.buildbin-libdir StartedAt: 2023-04-10 23:38:56 -0400 (Mon, 10 Apr 2023) EndedAt: 2023-04-10 23:39:49 -0400 (Mon, 10 Apr 2023) EllapsedTime: 52.7 seconds RetCode: 0 Status: OK PackageFile: CrispRVariants_1.26.0.tgz PackageFileSize: 1.724 MiB