Package: CoreGx Version: 2.2.0 Command: chmod a+r CoreGx -R && F:\biocbuild\bbs-3.16-bioc\R\bin\R.exe CMD build --keep-empty-dirs --no-resave-data CoreGx StartedAt: 2023-04-10 17:57:47 -0400 (Mon, 10 Apr 2023) EndedAt: 2023-04-10 17:59:01 -0400 (Mon, 10 Apr 2023) EllapsedTime: 74.1 seconds RetCode: 0 Status: OK PackageFile: CoreGx_2.2.0.tar.gz PackageFileSize: 1.334 MiB