Package: CoCiteStats Version: 1.70.0 Command: /Library/Frameworks/R.framework/Resources/bin/R CMD check --install=check:CoCiteStats.install-out.txt --library=/Library/Frameworks/R.framework/Resources/library --no-vignettes --timings CoCiteStats_1.70.0.tar.gz StartedAt: 2023-04-10 19:30:15 -0400 (Mon, 10 Apr 2023) EndedAt: 2023-04-10 19:34:12 -0400 (Mon, 10 Apr 2023) EllapsedTime: 236.7 seconds RetCode: 0 Status: OK CheckDir: CoCiteStats.Rcheck Warnings: 0