Package: CoCiteStats Version: 1.70.0 Command: rm -rf CoCiteStats.buildbin-libdir && mkdir CoCiteStats.buildbin-libdir && /Users/biocbuild/BBS/utils/build-universal.sh CoCiteStats_1.70.0.tar.gz /Library/Frameworks/R.framework/Resources/bin/R CoCiteStats.buildbin-libdir StartedAt: 2023-04-10 23:37:50 -0400 (Mon, 10 Apr 2023) EndedAt: 2023-04-10 23:38:07 -0400 (Mon, 10 Apr 2023) EllapsedTime: 17.1 seconds RetCode: 0 Status: OK PackageFile: CoCiteStats_1.70.0.tgz PackageFileSize: 31.42 KiB