Package: Clonality Version: 1.46.0 Command: chmod a+r Clonality -R && F:\biocbuild\bbs-3.16-bioc\R\bin\R.exe CMD build --keep-empty-dirs --no-resave-data Clonality StartedAt: 2023-04-10 17:48:07 -0400 (Mon, 10 Apr 2023) EndedAt: 2023-04-10 17:49:25 -0400 (Mon, 10 Apr 2023) EllapsedTime: 78.6 seconds RetCode: 0 Status: OK PackageFile: Clonality_1.46.0.tar.gz PackageFileSize: 2.369 MiB