Package: ChIPXpress Version: 1.42.0 Command: /Library/Frameworks/R.framework/Resources/bin/R CMD INSTALL ChIPXpress StartedAt: 2023-04-10 15:15:39 -0400 (Mon, 10 Apr 2023) EndedAt: 2023-04-10 15:16:12 -0400 (Mon, 10 Apr 2023) EllapsedTime: 33.0 seconds RetCode: 0 Status: OK