Package: ChIPXpress Version: 1.42.0 Command: /Library/Frameworks/R.framework/Resources/bin/R CMD check --install=check:ChIPXpress.install-out.txt --library=/Library/Frameworks/R.framework/Resources/library --no-vignettes --timings ChIPXpress_1.42.0.tar.gz StartedAt: 2023-04-10 19:22:03 -0400 (Mon, 10 Apr 2023) EndedAt: 2023-04-10 19:25:08 -0400 (Mon, 10 Apr 2023) EllapsedTime: 184.7 seconds RetCode: 0 Status: OK CheckDir: ChIPXpress.Rcheck Warnings: 0