Package: ChIPXpress Version: 1.42.0 Command: /Library/Frameworks/R.framework/Resources/bin/R CMD build --keep-empty-dirs --no-resave-data ChIPXpress StartedAt: 2023-04-10 16:07:36 -0400 (Mon, 10 Apr 2023) EndedAt: 2023-04-10 16:08:22 -0400 (Mon, 10 Apr 2023) EllapsedTime: 46.3 seconds RetCode: 0 Status: OK PackageFile: ChIPXpress_1.42.0.tar.gz PackageFileSize: 447.3 KiB