Package: ChIPQC Version: 1.34.1 Command: /home/biocbuild/bbs-3.16-bioc/R/bin/R CMD INSTALL ChIPQC StartedAt: 2023-04-10 15:49:13 -0400 (Mon, 10 Apr 2023) EndedAt: 2023-04-10 15:50:39 -0400 (Mon, 10 Apr 2023) EllapsedTime: 86.1 seconds RetCode: 0 Status: OK