Package: CellTrails Version: 1.16.0 Command: /home/biocbuild/bbs-3.16-bioc/R/bin/R CMD build --keep-empty-dirs --no-resave-data CellTrails StartedAt: 2023-04-10 16:19:18 -0400 (Mon, 10 Apr 2023) EndedAt: 2023-04-10 16:19:55 -0400 (Mon, 10 Apr 2023) EllapsedTime: 36.6 seconds RetCode: 0 Status: OK PackageFile: CellTrails_1.16.0.tar.gz PackageFileSize: 2.625 MiB